BEGIN:VCALENDAR
VERSION:2.0
PRODID:-//CERN//INDICO//EN
BEGIN:VEVENT
SUMMARY:Fény Napja az ELI ALPS Lézeres Kutatóintézetben
DTSTART:20260515T150000Z
DTEND:20260515T190000Z
DTSTAMP:20260426T020400Z
UID:indico-event-249@indico.eli-laser.eu
DESCRIPTION:A fény nemzetközi napját világszerte május 16-án ünnepl
 ik annak emlékére\, hogy 1960-ban ezen a napon mutatta be első működ
 ő lézerét Theodore Maiman amerikai mérnök. A kezdeményezés az UNESC
 O égisze alatt indult\, célja pedig az\, hogy felhívja a figyelmet a f
 ény és a fényalapú technológiák szerepére a tudományban\, a kultú
 rában és a mindennapi életben. A modern kommunikációtól az orvosi di
 agnosztikán át az energiatakarékos megoldásokig a fény jelenléte né
 lkülözhetetlen – ezt az üzenetet erősíti a rendezvényünk is. „
 Mindenre van energiánk” – fókuszban a jövőIdei programunk középp
 ontjában a „mindenre van energiánk” szlogen áll\, amely intézetün
 k tavaly ősszel átadott napelemparkjára utal. Ez a fejlesztés nemcsak 
 a fenntarthatóság iránti elköteleződésünket jelképezi\, hanem azt 
 is\, hogy az ELI ALPS-ban a kutatás és az innováció egyformán fontos.
  A mottó azt is üzeni\, hogy intézetünk munkájában is szerepet játs
 zanak különböző energiák: a lézerműködés az elektronok energiaszi
 ntek közötti mozgásán alapul\, a fényforrások fontos paramétere az 
 impulzusenergia\, illetve fizikusaink az ultragyors folyamatok során tör
 ténő energiaváltozásokat is elemzik.Az est során párhuzamosan futó 
 programok közül válogathatnak látogatóink:látványos tudományos bem
 utatókjátékos\, interaktív feladatokismeretterjesztő előadásokés k
 ülönleges „villámkérdések”\, amelyek megválaszolásával kiderü
 l: vajon melyik állítás igaz az ELI ALPS világáraA jó hír: egy kis 
 segítséggel mindenki sikerrel járhat – a mentőkérdés garantálja\,
  hogy senki ne maradjon élmény nélkül\, bárki megtekinthesse az elzá
 rt tereinket. Minden korosztálynak ajánlottAz esemény célja\, hogy me
 gmutassa: a fizika nem elvont és száraz\, hanem meglepő\, látványos\,
  szórakoztató és a mindennapjaink alapja. Hiszen fizika nélkül nincs 
 modern kommunikáció\, nincsenek okoseszközök. A legkisebbek esetén a 
 kíváncsiság felkeltése a cél\, a diákoknál annak bemutatása\, hogy
  a fizika miként segít megérteni a világ működését. A fiatal feln
 őtteknek szóló üzenet: a kutatás izgalmas lehetőség a jövő alakí
 tására\, míg a családoknak az\, hogy a közös kísérletezés élmén
 nyé teszi a tanulást.Fény napi rendezvényünk nem csupán egy program\
 , hanem találkozás a tudománnyal\, és egy lehetőség arra\, hogy köz
 elebb kerüljünk ahhoz a világhoz\, amely formálja a holnapot. I.  
                  Előadások II.            
      Bemutatók III.              Játékok IV.    
           Fókusz Interaktív látogatói tér megtekintése (12
 + éveseknek ajánlott) V.                Ismeretterjeszt
 ő poszterek VI.              Vezetett látogatások (12+ 
 éveseknek ajánlott) A programváltozás jogát fenntartjuk. A program 
 helyszíne: ELI ALPS Lézeres Kutatóintézet\, Szeged\, Wolfgang Sandner 
 u. 3.Nyitvatartás: 2026. május 15. (péntek)\, 17-21 óráig.A belépés
  díjtalan\, de a rendezvényen való részvétel előzetes regisztráció
 hoz kötött. Egyetlen regisztrációval az est minden programjába be leh
 et kapcsolódni.\n\nhttps://indico.eli-laser.eu/event/249/
LOCATION:Szeged\, Wolfgang Sandner utca 3.
URL:https://indico.eli-laser.eu/event/249/
END:VEVENT
END:VCALENDAR
